BEGIN:VCALENDAR
VERSION:2.0
PRODID:-//RetoPichón - ECPv6.15.18//NONSGML v1.0//EN
CALSCALE:GREGORIAN
METHOD:PUBLISH
X-ORIGINAL-URL:https://retopichon.com
X-WR-CALDESC:Eventos para RetoPichón
REFRESH-INTERVAL;VALUE=DURATION:PT1H
X-Robots-Tag:noindex
X-PUBLISHED-TTL:PT1H
BEGIN:VTIMEZONE
TZID:Europe/Madrid
BEGIN:DAYLIGHT
TZOFFSETFROM:+0100
TZOFFSETTO:+0200
TZNAME:CEST
DTSTART:20240331T010000
END:DAYLIGHT
BEGIN:STANDARD
TZOFFSETFROM:+0200
TZOFFSETTO:+0100
TZNAME:CET
DTSTART:20241027T010000
END:STANDARD
BEGIN:DAYLIGHT
TZOFFSETFROM:+0100
TZOFFSETTO:+0200
TZNAME:CEST
DTSTART:20250330T010000
END:DAYLIGHT
BEGIN:STANDARD
TZOFFSETFROM:+0200
TZOFFSETTO:+0100
TZNAME:CET
DTSTART:20251026T010000
END:STANDARD
BEGIN:DAYLIGHT
TZOFFSETFROM:+0100
TZOFFSETTO:+0200
TZNAME:CEST
DTSTART:20260329T010000
END:DAYLIGHT
BEGIN:STANDARD
TZOFFSETFROM:+0200
TZOFFSETTO:+0100
TZNAME:CET
DTSTART:20261025T010000
END:STANDARD
BEGIN:DAYLIGHT
TZOFFSETFROM:+0100
TZOFFSETTO:+0200
TZNAME:CEST
DTSTART:20270328T010000
END:DAYLIGHT
BEGIN:STANDARD
TZOFFSETFROM:+0200
TZOFFSETTO:+0100
TZNAME:CET
DTSTART:20271031T010000
END:STANDARD
END:VTIMEZONE
BEGIN:VEVENT
DTSTART;TZID=Europe/Madrid:20251004T080000
DTEND;TZID=Europe/Madrid:20251004T170000
DTSTAMP:20260422T040922
CREATED:20250406T101345Z
LAST-MODIFIED:20250406T184449Z
UID:236693-1759564800-1759597200@retopichon.com
SUMMARY:#RETOPICHON 2025:XV Andalucía Desafío Doñana.
DESCRIPTION:El #RetoPichón 2025 se adentra en uno de los escenarios más mágicos y duros de nuestra geografía: el Desafío Doñana. \nUn triatlón único\, que atraviesa carreteras infinitas\, ríos impredecibles y senderos salvajes del Parque Nacional.Porque cada kilómetro en este entorno natural será un grito de visibilidad para las personas adultas con autismo.
URL:https://retopichon.com/event/retopichon-2025xv-andalucia-desafio-donana/
LOCATION:PARQUE NACIONAL DOÑANA\, Spain
CATEGORIES:#RETO2025
ATTACH;FMTTYPE=image/jpeg:https://retopichon.com/wp-content/uploads/2025/03/PRUEBAS-RETOPICHON-2025-800-x-450-px-17.jpg
END:VEVENT
BEGIN:VEVENT
DTSTART;VALUE=DATE:20251026
DTEND;VALUE=DATE:20251027
DTSTAMP:20260422T040922
CREATED:20250402T181622Z
LAST-MODIFIED:20250406T073013Z
UID:236592-1761436800-1761523199@retopichon.com
SUMMARY: #RETOPICHON 2025- Marta Catalán- Media Maratón de Lisboa -#YOSOYEMBAJADOR DEL #RETOPICHÓN -
DESCRIPTION:💙 Marta Catalán\, embajadora del #RetoPichón\, tiene claro que cuando el corazón empuja… las piernas responden. \nEste año\, su reto personal es participar en la Media Maratón de Lisboa\, el próximo 26 de octubre\, y lo hará corriendo por algo mucho más grande que una meta. \n🌍 Su objetivo no es solo completar los 21 kilómetros. Su propósito va más allá: sumar cada zancada a la causa del proyecto HORIZONTE\, en apoyo a Autismo Sevilla. \nSi quieres apoyar a Marta en su carrera solidaria\, puedes hacerlo desde el enlace que encontrarás en nuestra bio o accediendo directamente a Migranodearena. \nConstruyendo su HORIZONTE construimos su FUTURO. \n#Horizonte  #ConstruyendoHorizonte #ConstruimosFuturo #Autismo #Tea \n#movimiento #yosoyembajador #ayudaralosdemas #ayudarparaayudarte #ElDeporteMiAltavoz #Relatos
URL:https://retopichon.com/event/retopichon-2025-marta-catalan-media-maraton-de-lisboa-yosoyembajador-del-retopichon/
LOCATION:LISBOA\, Portugal
CATEGORIES:#YOSOYEMBAJADOR
ATTACH;FMTTYPE=image/jpeg:https://retopichon.com/wp-content/uploads/2025/04/PRUEBAS-RETOPICHON-2025-800-x-450-px.jpg
END:VEVENT
BEGIN:VEVENT
DTSTART;TZID=Europe/Madrid:20251101T203000
DTEND;TZID=Europe/Madrid:20251101T203000
DTSTAMP:20260422T040922
CREATED:20251008T094731Z
LAST-MODIFIED:20251008T101207Z
UID:237134-1762029000-1762029000@retopichon.com
SUMMARY:#MUCHOMASQUEDEPORTE- Obra de teatro solidaria : Dejad que duerman las abejas - Tusitalas producciones
DESCRIPTION:¿Y si todo lo que sabías sobre Cristóbal Colón fuese mentira?En el año 2025\, un descubrimiento sacude los cimientos de la historia: el supuesto diario “secreto” de Cristóbal Colón aparece en Inglaterra\, revelando que… tal vez nunca llegó a América. ¿Fraude o verdad oculta? \nEn esta comedia irreverente y brillante\, dos agentes secretos de una organización ultrasecreta española —Kronos y Kairós— se embarcan en una misión tan absurda como urgente: viajar al pasado con una recién descubierta máquina del tiempo para limpiar la imagen del almirante Colón. \n📅 1 de noviembre📍 Teatro Fundación Cajasol\, Sevilla🕣 20:30 h🎫 Entradas a la venta!!! \nLos fondos recaudados íntegramente con esta obra irán destinados a Autismo Sevilla\, como parte del proyecto solidario #RetoPichón 2025\, y se canalizarán directamente hacia el desarrollo del Proyecto Horizonte. \nConstruyendo su HORIZONTE\, construimos su FUTURO.#Horizonte #ConstruyendoHorizonte #ConstruimosFuturo #Autismo #TEA #Movimiento #YoSoyEmbajador #AyudarALosDemás #AyudarParaAyudarte #ElDeporteMiAltavoz
URL:https://retopichon.com/event/muchomasquedeporte-obra-de-teatro-solidaria-dejad-que-duerman-las-abejas-tusitalas-producciones/
LOCATION:Teatro Cajasol\, Chicarreros\, Spain
CATEGORIES:#MUCHOMASQUEDEPORTE,#RETO2025
ATTACH;FMTTYPE=image/jpeg:https://retopichon.com/wp-content/uploads/2025/10/TEATRO-CARTELES-CAJASOL-1920-x-1080-px.jpg
END:VEVENT
BEGIN:VEVENT
DTSTART;VALUE=DATE:20251108
DTEND;VALUE=DATE:20251109
DTSTAMP:20260422T040922
CREATED:20250406T102426Z
LAST-MODIFIED:20250406T102429Z
UID:236697-1762560000-1762646399@retopichon.com
SUMMARY:#RETOPICHON 2025:XIII Doñana Trail Marathón Sevilla – El Rocío
DESCRIPTION:El #RetoPichón 2025 recorrerá 77 kilómetros a pie\, desde el corazón de Sevilla hasta la aldea del Rocío. Un desafío físico y emocional atravesando pueblos\, senderos\, pinares y arenas que ponen a prueba cuerpo y mente.
URL:https://retopichon.com/event/retopichon-2025xiii-donana-trail-marathon-sevilla-el-rocio/
LOCATION:EL ROCIO\, Spain
CATEGORIES:#RETO2025
ATTACH;FMTTYPE=image/jpeg:https://retopichon.com/wp-content/uploads/2025/03/PRUEBAS-RETOPICHON-2025-800-x-450-px-19.jpg
END:VEVENT
BEGIN:VEVENT
DTSTART;TZID=Europe/Madrid:20251114T203000
DTEND;TZID=Europe/Madrid:20251114T213000
DTSTAMP:20260422T040922
CREATED:20251008T095716Z
LAST-MODIFIED:20251008T102132Z
UID:237144-1763152200-1763155800@retopichon.com
SUMMARY:Concierto solidario : La Reyna Gitana & Lola Vega - #RetoPichón 2025 : HORIZONTE
DESCRIPTION:Rosario Montoya “La Reyna Gitana” y Lola Vega se unen por primera vez en un espectáculo lleno de alma\, raíces y compromiso. \nCon una sensibilidad especial para la composición\, Rosario ha sabido fusionar culturas\, ofreciendo una música que no solo es un deleite para los oídos\, sino también para el alma. \nLa profundidad del flamenco se une a la elegancia del piano en interpretaciones que despiertan admiración y emoción.\nSu música es un puente entre mundos\, llevando el flamenco a nuevas dimensiones. \nA su lado\, Lola Vega\, voz inconfundible de Trebujena\, ganadora de 19 premios de copla\, saxofonista y artista polifacética.\nSu entrega sobre el escenario es pura pasión\, arte y energía. \n📅 14 de noviembre\n📍 Teatro Fundación Cajasol\, Sevilla\n🕣 20:30 h\n🎫 Entradas a la venta!!! \nLos fondos recaudados íntegramente con este concierto irán destinados a Autismo Sevilla\, como parte del proyecto solidario #RetoPichón 2025\, y se canalizarán directamente hacia el desarrollo del Proyecto Horizonte. \nConstruyendo su HORIZONTE\, construimos su FUTURO.\n#Horizonte #ConstruyendoHorizonte #ConstruimosFuturo #Autismo #TEA #Movimiento #YoSoyEmbajador #AyudarALosDemás #AyudarParaAyudarte #ElDeporteMiAltavoz \n  \n  \n  \n 
URL:https://retopichon.com/event/concierto-solidario-la-reyna-gitana-lola-vega-retopichon-2025-horizonte/
LOCATION:Teatro Cajasol\, Chicarreros\, Spain
CATEGORIES:#MUCHOMASQUEDEPORTE,#RETO2025
ATTACH;FMTTYPE=image/jpeg:https://retopichon.com/wp-content/uploads/2025/10/CARTELES-1920-x-1080-px-CONCIERTO-LA-REYNA-GITANA-LOLA-VEGA-scaled.jpg
END:VEVENT
BEGIN:VEVENT
DTSTART;TZID=Europe/Madrid:20260502T090000
DTEND;TZID=Europe/Madrid:20260502T160000
DTSTAMP:20260422T040922
CREATED:20260411T055519Z
LAST-MODIFIED:20260413T054848Z
UID:237464-1777712400-1777737600@retopichon.com
SUMMARY:I Maratón Armada #RetoPichón – Buque Juan Carlos I (Rota\, Cádiz)
DESCRIPTION:El #RetoPichón 2026 arranca con una prueba única: una maratón sobre la cubierta del buque de la Armada Juan Carlos I. Un escenario sin precedentes que transforma el deporte en un altavoz de impacto social. \n42\,2 kilómetros recorridos en un espacio que simboliza esfuerzo\, compromiso y vocación de servicio\, acompañado por quienes cada día representan esos valores desde el mar. No es solo una carrera. Es un mensaje. \nEsta prueba no solo marca el inicio del calendario\, sino también el comienzo de una historia: la de jóvenes que necesitan una oportunidad real para construir su futuro. \nRetomar este reto supone dar continuidad a un compromiso que va más allá del deporte\, conectando solidaridad y acción en un entorno que representa ayuda\, protección y entrega a los demás.
URL:https://retopichon.com/event/i-maraton-armada-retopichon-buque-juan-carlos-i-rota-cadiz/
LOCATION:base naval de rota
CATEGORIES:#RETO2026
ATTACH;FMTTYPE=image/jpeg:https://retopichon.com/wp-content/uploads/2026/04/CALENDARIO-DEPORTIVO-RETOPICHON-2026-1.jpg
END:VEVENT
BEGIN:VEVENT
DTSTART;TZID=Europe/Madrid:20260607T080000
DTEND;TZID=Europe/Madrid:20260607T170000
DTSTAMP:20260422T040922
CREATED:20260411T060201Z
LAST-MODIFIED:20260413T054937Z
UID:237485-1780819200-1780851600@retopichon.com
SUMMARY:III Travesía Ardales – Caminito del Rey (Ardales\, Málaga)
DESCRIPTION:El #RetoPichón 2026 se vive “en y desde el mar”. Bajo el lema “Nos mojamos”\, el calendario deportivo recorre distintos puntos de la geografía española a través de una serie de travesías a nado que convierten cada prueba en algo mucho más grande que un desafío físico. \nMás de 50 kilómetros de recorrido en el agua donde cada brazada tiene un sentido: dar visibilidad a una realidad que no puede esperar. Cada travesía es una historia\, un nombre\, una oportunidad para poner voz a los jóvenes que\, al cumplir la mayoría de edad\, se enfrentan solos al inicio de su vida adulta. \nEstas pruebas forman parte del circuito Brazadas Solidarias\, reforzando el compromiso del #RetoPichón con proyectos que generan impacto real y con alianzas que comparten propósito.
URL:https://retopichon.com/event/iii-travesia-ardales-caminito-del-rey-ardales-malaga/
LOCATION:ARDALES
CATEGORIES:#RETO2026
ATTACH;FMTTYPE=image/jpeg:https://retopichon.com/wp-content/uploads/2026/04/CALENDARIO-DEPORTIVO-RETOPICHON-2026-2.jpg
END:VEVENT
BEGIN:VEVENT
DTSTART;TZID=Europe/Madrid:20260613T080000
DTEND;TZID=Europe/Madrid:20260613T170000
DTSTAMP:20260422T040922
CREATED:20260413T055242Z
LAST-MODIFIED:20260413T055242Z
UID:237505-1781337600-1781370000@retopichon.com
SUMMARY:I Travesía Ciudad de Lebrija (Lebrija\, Sevilla)
DESCRIPTION:El #RetoPichón 2026 se vive “en y desde el mar”. Bajo el lema “Nos mojamos”\, el calendario deportivo recorre distintos puntos de la geografía española a través de una serie de travesías a nado que convierten cada prueba en algo mucho más grande que un desafío físico. \nMás de 50 kilómetros de recorrido en el agua donde cada brazada tiene un sentido: dar visibilidad a una realidad que no puede esperar. Cada travesía es una historia\, un nombre\, una oportunidad para poner voz a los jóvenes que\, al cumplir la mayoría de edad\, se enfrentan solos al inicio de su vida adulta. \nEstas pruebas forman parte del circuito Brazadas Solidarias\, reforzando el compromiso del #RetoPichón con proyectos que generan impacto real y con alianzas que comparten propósito.
URL:https://retopichon.com/event/i-travesia-ciudad-de-lebrija-lebrija-sevilla/
CATEGORIES:#RETO2026
ATTACH;FMTTYPE=image/jpeg:https://retopichon.com/wp-content/uploads/2026/04/CALENDARIO-DEPORTIVO-RETOPICHON-2026-3.jpg
END:VEVENT
BEGIN:VEVENT
DTSTART;TZID=Europe/Madrid:20260614T080000
DTEND;TZID=Europe/Madrid:20260614T170000
DTSTAMP:20260422T040922
CREATED:20260413T055437Z
LAST-MODIFIED:20260413T064002Z
UID:237508-1781424000-1781456400@retopichon.com
SUMMARY:IX travesía a nado JSR Lago de Arcos -Cádiz
DESCRIPTION:El #RetoPichón 2026 se vive “en y desde el mar”. Bajo el lema “Nos mojamos”\, el calendario deportivo recorre distintos puntos de la geografía española a través de una serie de travesías a nado que convierten cada prueba en algo mucho más grande que un desafío físico. \nMás de 50 kilómetros de recorrido en el agua donde cada brazada tiene un sentido: dar visibilidad a una realidad que no puede esperar. Cada travesía es una historia\, un nombre\, una oportunidad para poner voz a los jóvenes que\, al cumplir la mayoría de edad\, se enfrentan solos al inicio de su vida adulta. \nEstas pruebas forman parte del circuito Brazadas Solidarias\, reforzando el compromiso del #RetoPichón con proyectos que generan impacto real y con alianzas que comparten propósito.
URL:https://retopichon.com/event/ix-travesia-a-nado-jsr-lago-de-arcos-cadiz/
CATEGORIES:#RETO2026
ATTACH;FMTTYPE=image/jpeg:https://retopichon.com/wp-content/uploads/2026/04/CALENDARIO-DEPORTIVO-RETOPICHON-2026-4.jpg
END:VEVENT
BEGIN:VEVENT
DTSTART;TZID=Europe/Madrid:20260620T080000
DTEND;TZID=Europe/Madrid:20260620T170000
DTSTAMP:20260422T040922
CREATED:20260413T055553Z
LAST-MODIFIED:20260413T055553Z
UID:237510-1781942400-1781974800@retopichon.com
SUMMARY:VI Travesía Río Piedras (Cartaya\, Huelva)
DESCRIPTION:El #RetoPichón 2026 se vive “en y desde el mar”. Bajo el lema “Nos mojamos”\, el calendario deportivo recorre distintos puntos de la geografía española a través de una serie de travesías a nado que convierten cada prueba en algo mucho más grande que un desafío físico. \nMás de 50 kilómetros de recorrido en el agua donde cada brazada tiene un sentido: dar visibilidad a una realidad que no puede esperar. Cada travesía es una historia\, un nombre\, una oportunidad para poner voz a los jóvenes que\, al cumplir la mayoría de edad\, se enfrentan solos al inicio de su vida adulta. \nEstas pruebas forman parte del circuito Brazadas Solidarias\, reforzando el compromiso del #RetoPichón con proyectos que generan impacto real y con alianzas que comparten propósito.
URL:https://retopichon.com/event/vi-travesia-rio-piedras-cartaya-huelva/
CATEGORIES:#RETO2026
ATTACH;FMTTYPE=image/jpeg:https://retopichon.com/wp-content/uploads/2026/04/CALENDARIO-DEPORTIVO-RETOPICHON-2026-5.jpg
END:VEVENT
BEGIN:VEVENT
DTSTART;TZID=Europe/Madrid:20260621T080000
DTEND;TZID=Europe/Madrid:20260621T170000
DTSTAMP:20260422T040922
CREATED:20260413T055710Z
LAST-MODIFIED:20260413T055710Z
UID:237512-1782028800-1782061200@retopichon.com
SUMMARY:Travesía Saca la Lengua a la ELA (Vélez-Málaga\, Málaga)
DESCRIPTION:El #RetoPichón 2026 se vive “en y desde el mar”. Bajo el lema “Nos mojamos”\, el calendario deportivo recorre distintos puntos de la geografía española a través de una serie de travesías a nado que convierten cada prueba en algo mucho más grande que un desafío físico. \nMás de 50 kilómetros de recorrido en el agua donde cada brazada tiene un sentido: dar visibilidad a una realidad que no puede esperar. Cada travesía es una historia\, un nombre\, una oportunidad para poner voz a los jóvenes que\, al cumplir la mayoría de edad\, se enfrentan solos al inicio de su vida adulta. \nEstas pruebas forman parte del circuito Brazadas Solidarias\, reforzando el compromiso del #RetoPichón con proyectos que generan impacto real y con alianzas que comparten propósito.
URL:https://retopichon.com/event/travesia-saca-la-lengua-a-la-ela-velez-malaga-malaga/
CATEGORIES:#RETO2026
ATTACH;FMTTYPE=image/jpeg:https://retopichon.com/wp-content/uploads/2026/04/CALENDARIO-DEPORTIVO-RETOPICHON-2026-6.jpg
END:VEVENT
BEGIN:VEVENT
DTSTART;TZID=Europe/Madrid:20260627T080000
DTEND;TZID=Europe/Madrid:20260627T170000
DTSTAMP:20260422T040922
CREATED:20260413T055829Z
LAST-MODIFIED:20260413T055829Z
UID:237514-1782547200-1782579600@retopichon.com
SUMMARY:III Travesía Swim en el Mar (Tarifa\, Cádiz)
DESCRIPTION:El #RetoPichón 2026 se vive “en y desde el mar”. Bajo el lema “Nos mojamos”\, el calendario deportivo recorre distintos puntos de la geografía española a través de una serie de travesías a nado que convierten cada prueba en algo mucho más grande que un desafío físico. \nMás de 50 kilómetros de recorrido en el agua donde cada brazada tiene un sentido: dar visibilidad a una realidad que no puede esperar. Cada travesía es una historia\, un nombre\, una oportunidad para poner voz a los jóvenes que\, al cumplir la mayoría de edad\, se enfrentan solos al inicio de su vida adulta. \nEstas pruebas forman parte del circuito Brazadas Solidarias\, reforzando el compromiso del #RetoPichón con proyectos que generan impacto real y con alianzas que comparten propósito.
URL:https://retopichon.com/event/iii-travesia-swim-en-el-mar-tarifa-cadiz/
CATEGORIES:#RETO2026
ATTACH;FMTTYPE=image/jpeg:https://retopichon.com/wp-content/uploads/2026/04/CALENDARIO-DEPORTIVO-RETOPICHON-2026-7.jpg
END:VEVENT
BEGIN:VEVENT
DTSTART;TZID=Europe/Madrid:20260704T080000
DTEND;TZID=Europe/Madrid:20260704T170000
DTSTAMP:20260422T040922
CREATED:20260413T055948Z
LAST-MODIFIED:20260413T055948Z
UID:237516-1783152000-1783184400@retopichon.com
SUMMARY:XVII Travesía Okeymas (El Puerto de Santa María\, Cádiz)
DESCRIPTION:El #RetoPichón 2026 se vive “en y desde el mar”. Bajo el lema “Nos mojamos”\, el calendario deportivo recorre distintos puntos de la geografía española a través de una serie de travesías a nado que convierten cada prueba en algo mucho más grande que un desafío físico. \nMás de 50 kilómetros de recorrido en el agua donde cada brazada tiene un sentido: dar visibilidad a una realidad que no puede esperar. Cada travesía es una historia\, un nombre\, una oportunidad para poner voz a los jóvenes que\, al cumplir la mayoría de edad\, se enfrentan solos al inicio de su vida adulta. \nEstas pruebas forman parte del circuito Brazadas Solidarias\, reforzando el compromiso del #RetoPichón con proyectos que generan impacto real y con alianzas que comparten propósito.
URL:https://retopichon.com/event/xvii-travesia-okeymas-el-puerto-de-santa-maria-cadiz/
CATEGORIES:#RETO2026
ATTACH;FMTTYPE=image/jpeg:https://retopichon.com/wp-content/uploads/2026/04/CALENDARIO-DEPORTIVO-RETOPICHON-2026-8.jpg
END:VEVENT
BEGIN:VEVENT
DTSTART;TZID=Europe/Madrid:20260719T080000
DTEND;TZID=Europe/Madrid:20260719T170000
DTSTAMP:20260422T040922
CREATED:20260413T060050Z
LAST-MODIFIED:20260413T060050Z
UID:237518-1784448000-1784480400@retopichon.com
SUMMARY:XI Travesía Brazadas Solidarias (Chiclana\, Cádiz)
DESCRIPTION:El #RetoPichón 2026 se vive “en y desde el mar”. Bajo el lema “Nos mojamos”\, el calendario deportivo recorre distintos puntos de la geografía española a través de una serie de travesías a nado que convierten cada prueba en algo mucho más grande que un desafío físico. \nMás de 50 kilómetros de recorrido en el agua donde cada brazada tiene un sentido: dar visibilidad a una realidad que no puede esperar. Cada travesía es una historia\, un nombre\, una oportunidad para poner voz a los jóvenes que\, al cumplir la mayoría de edad\, se enfrentan solos al inicio de su vida adulta. \nEstas pruebas forman parte del circuito Brazadas Solidarias\, reforzando el compromiso del #RetoPichón con proyectos que generan impacto real y con alianzas que comparten propósito.
URL:https://retopichon.com/event/xi-travesia-brazadas-solidarias-chiclana-cadiz/
CATEGORIES:#RETO2026
ATTACH;FMTTYPE=image/jpeg:https://retopichon.com/wp-content/uploads/2026/04/CALENDARIO-DEPORTIVO-RETOPICHON-2026-9.jpg
END:VEVENT
BEGIN:VEVENT
DTSTART;TZID=Europe/Madrid:20260725T080000
DTEND;TZID=Europe/Madrid:20260725T170000
DTSTAMP:20260422T040922
CREATED:20260413T060157Z
LAST-MODIFIED:20260413T060157Z
UID:237520-1784966400-1784998800@retopichon.com
SUMMARY:XI Travesía Brazadas Solidarias (La Antilla\, Huelva)
DESCRIPTION:El #RetoPichón 2026 se vive “en y desde el mar”. Bajo el lema “Nos mojamos”\, el calendario deportivo recorre distintos puntos de la geografía española a través de una serie de travesías a nado que convierten cada prueba en algo mucho más grande que un desafío físico. \nMás de 50 kilómetros de recorrido en el agua donde cada brazada tiene un sentido: dar visibilidad a una realidad que no puede esperar. Cada travesía es una historia\, un nombre\, una oportunidad para poner voz a los jóvenes que\, al cumplir la mayoría de edad\, se enfrentan solos al inicio de su vida adulta. \nEstas pruebas forman parte del circuito Brazadas Solidarias\, reforzando el compromiso del #RetoPichón con proyectos que generan impacto real y con alianzas que comparten propósito.
URL:https://retopichon.com/event/xi-travesia-brazadas-solidarias-la-antilla-huelva/
CATEGORIES:#RETO2026
ATTACH;FMTTYPE=image/jpeg:https://retopichon.com/wp-content/uploads/2026/04/CALENDARIO-DEPORTIVO-RETOPICHON-2026-10.jpg
END:VEVENT
BEGIN:VEVENT
DTSTART;TZID=Europe/Madrid:20260822T080000
DTEND;TZID=Europe/Madrid:20260822T170000
DTSTAMP:20260422T040922
CREATED:20260413T060256Z
LAST-MODIFIED:20260413T060256Z
UID:237522-1787385600-1787418000@retopichon.com
SUMMARY:II Travesía Ciudad de San Fernando (Cádiz)
DESCRIPTION:El #RetoPichón 2026 se vive “en y desde el mar”. Bajo el lema “Nos mojamos”\, el calendario deportivo recorre distintos puntos de la geografía española a través de una serie de travesías a nado que convierten cada prueba en algo mucho más grande que un desafío físico. \nMás de 50 kilómetros de recorrido en el agua donde cada brazada tiene un sentido: dar visibilidad a una realidad que no puede esperar. Cada travesía es una historia\, un nombre\, una oportunidad para poner voz a los jóvenes que\, al cumplir la mayoría de edad\, se enfrentan solos al inicio de su vida adulta. \nEstas pruebas forman parte del circuito Brazadas Solidarias\, reforzando el compromiso del #RetoPichón con proyectos que generan impacto real y con alianzas que comparten propósito.
URL:https://retopichon.com/event/ii-travesia-ciudad-de-san-fernando-cadiz/
CATEGORIES:#RETO2026
ATTACH;FMTTYPE=image/jpeg:https://retopichon.com/wp-content/uploads/2026/04/CALENDARIO-DEPORTIVO-RETOPICHON-2026-11.jpg
END:VEVENT
BEGIN:VEVENT
DTSTART;TZID=Europe/Madrid:20260823T080000
DTEND;TZID=Europe/Madrid:20260823T170000
DTSTAMP:20260422T040922
CREATED:20260413T063444Z
LAST-MODIFIED:20260413T063444Z
UID:237524-1787472000-1787504400@retopichon.com
SUMMARY:XXIII Travesía de Punta Umbría (Huelva)
DESCRIPTION:El #RetoPichón 2026 se vive “en y desde el mar”. Bajo el lema “Nos mojamos”\, el calendario deportivo recorre distintos puntos de la geografía española a través de una serie de travesías a nado que convierten cada prueba en algo mucho más grande que un desafío físico. \nMás de 50 kilómetros de recorrido en el agua donde cada brazada tiene un sentido: dar visibilidad a una realidad que no puede esperar. Cada travesía es una historia\, un nombre\, una oportunidad para poner voz a los jóvenes que\, al cumplir la mayoría de edad\, se enfrentan solos al inicio de su vida adulta. \nEstas pruebas forman parte del circuito Brazadas Solidarias\, reforzando el compromiso del #RetoPichón con proyectos que generan impacto real y con alianzas que comparten propósito.
URL:https://retopichon.com/event/xxiii-travesia-de-punta-umbria-huelva/
CATEGORIES:#RETO2026
ATTACH;FMTTYPE=image/jpeg:https://retopichon.com/wp-content/uploads/2026/04/CALENDARIO-DEPORTIVO-RETOPICHON-2026-12.jpg
END:VEVENT
BEGIN:VEVENT
DTSTART;TZID=Europe/Madrid:20260829T080000
DTEND;TZID=Europe/Madrid:20260829T170000
DTSTAMP:20260422T040922
CREATED:20260413T063612Z
LAST-MODIFIED:20260413T063612Z
UID:237526-1787990400-1788022800@retopichon.com
SUMMARY:III Travesía María de Valdés (Fuengirola\, Málaga)
DESCRIPTION:El #RetoPichón 2026 se vive “en y desde el mar”. Bajo el lema “Nos mojamos”\, el calendario deportivo recorre distintos puntos de la geografía española a través de una serie de travesías a nado que convierten cada prueba en algo mucho más grande que un desafío físico. \nMás de 50 kilómetros de recorrido en el agua donde cada brazada tiene un sentido: dar visibilidad a una realidad que no puede esperar. Cada travesía es una historia\, un nombre\, una oportunidad para poner voz a los jóvenes que\, al cumplir la mayoría de edad\, se enfrentan solos al inicio de su vida adulta. \nEstas pruebas forman parte del circuito Brazadas Solidarias\, reforzando el compromiso del #RetoPichón con proyectos que generan impacto real y con alianzas que comparten propósito.
URL:https://retopichon.com/event/iii-travesia-maria-de-valdes-fuengirola-malaga/
CATEGORIES:#RETO2026
ATTACH;FMTTYPE=image/jpeg:https://retopichon.com/wp-content/uploads/2026/04/CALENDARIO-DEPORTIVO-RETOPICHON-2026-13.jpg
END:VEVENT
BEGIN:VEVENT
DTSTART;TZID=Europe/Madrid:20260830T080000
DTEND;TZID=Europe/Madrid:20260830T170000
DTSTAMP:20260422T040922
CREATED:20260413T063709Z
LAST-MODIFIED:20260413T063709Z
UID:237528-1788076800-1788109200@retopichon.com
SUMMARY:XX Travesía Picoco – Playa de Regla (Chipiona\, Cádiz)
DESCRIPTION:El #RetoPichón 2026 se vive “en y desde el mar”. Bajo el lema “Nos mojamos”\, el calendario deportivo recorre distintos puntos de la geografía española a través de una serie de travesías a nado que convierten cada prueba en algo mucho más grande que un desafío físico. \nMás de 50 kilómetros de recorrido en el agua donde cada brazada tiene un sentido: dar visibilidad a una realidad que no puede esperar. Cada travesía es una historia\, un nombre\, una oportunidad para poner voz a los jóvenes que\, al cumplir la mayoría de edad\, se enfrentan solos al inicio de su vida adulta. \nEstas pruebas forman parte del circuito Brazadas Solidarias\, reforzando el compromiso del #RetoPichón con proyectos que generan impacto real y con alianzas que comparten propósito.
URL:https://retopichon.com/event/xx-travesia-picoco-playa-de-regla-chipiona-cadiz/
CATEGORIES:#RETO2026
ATTACH;FMTTYPE=image/jpeg:https://retopichon.com/wp-content/uploads/2026/04/CALENDARIO-DEPORTIVO-RETOPICHON-2026-14.jpg
END:VEVENT
BEGIN:VEVENT
DTSTART;TZID=Europe/Madrid:20260906T080000
DTEND;TZID=Europe/Madrid:20260906T170000
DTSTAMP:20260422T040922
CREATED:20260413T063801Z
LAST-MODIFIED:20260413T063801Z
UID:237530-1788681600-1788714000@retopichon.com
SUMMARY:II Travesía Discovery Zahara de la Sierra-Cádiz
DESCRIPTION:El #RetoPichón 2026 se vive “en y desde el mar”. Bajo el lema “Nos mojamos”\, el calendario deportivo recorre distintos puntos de la geografía española a través de una serie de travesías a nado que convierten cada prueba en algo mucho más grande que un desafío físico. \nMás de 50 kilómetros de recorrido en el agua donde cada brazada tiene un sentido: dar visibilidad a una realidad que no puede esperar. Cada travesía es una historia\, un nombre\, una oportunidad para poner voz a los jóvenes que\, al cumplir la mayoría de edad\, se enfrentan solos al inicio de su vida adulta. \nEstas pruebas forman parte del circuito Brazadas Solidarias\, reforzando el compromiso del #RetoPichón con proyectos que generan impacto real y con alianzas que comparten propósito.
URL:https://retopichon.com/event/ii-travesia-discovery-zahara-de-la-sierra-cadiz/
CATEGORIES:#RETO2026
ATTACH;FMTTYPE=image/jpeg:https://retopichon.com/wp-content/uploads/2026/04/CALENDARIO-DEPORTIVO-RETOPICHON-2026-15.jpg
END:VEVENT
BEGIN:VEVENT
DTSTART;TZID=Europe/Madrid:20260927T080000
DTEND;TZID=Europe/Madrid:20260927T170000
DTSTAMP:20260422T040922
CREATED:20260413T063850Z
LAST-MODIFIED:20260413T063850Z
UID:237532-1790496000-1790528400@retopichon.com
SUMMARY:IX Travesía Río Guadalquivir (Sevilla)
DESCRIPTION:El #RetoPichón 2026 se vive “en y desde el mar”. Bajo el lema “Nos mojamos”\, el calendario deportivo recorre distintos puntos de la geografía española a través de una serie de travesías a nado que convierten cada prueba en algo mucho más grande que un desafío físico. \nMás de 50 kilómetros de recorrido en el agua donde cada brazada tiene un sentido: dar visibilidad a una realidad que no puede esperar. Cada travesía es una historia\, un nombre\, una oportunidad para poner voz a los jóvenes que\, al cumplir la mayoría de edad\, se enfrentan solos al inicio de su vida adulta. \nEstas pruebas forman parte del circuito Brazadas Solidarias\, reforzando el compromiso del #RetoPichón con proyectos que generan impacto real y con alianzas que comparten propósito.
URL:https://retopichon.com/event/ix-travesia-rio-guadalquivir-sevilla/
CATEGORIES:#RETO2026
ATTACH;FMTTYPE=image/jpeg:https://retopichon.com/wp-content/uploads/2026/04/CALENDARIO-DEPORTIVO-RETOPICHON-2026-16.jpg
END:VEVENT
END:VCALENDAR